BEGIN:VCALENDAR
VERSION:2.0
PRODID:-//Urban Health Resource (UHR) Urban Health Outreach (UHO) - ECPv6.15.15//NONSGML v1.0//EN
CALSCALE:GREGORIAN
METHOD:PUBLISH
X-WR-CALNAME:Urban Health Resource (UHR) Urban Health Outreach (UHO)
X-ORIGINAL-URL:https://uhr-uho.org
X-WR-CALDESC:Events for Urban Health Resource (UHR) Urban Health Outreach (UHO)
REFRESH-INTERVAL;VALUE=DURATION:PT1H
X-Robots-Tag:noindex
X-PUBLISHED-TTL:PT1H
BEGIN:VTIMEZONE
TZID:UTC
BEGIN:STANDARD
TZOFFSETFROM:+0000
TZOFFSETTO:+0000
TZNAME:UTC
DTSTART:20220101T000000
END:STANDARD
END:VTIMEZONE
BEGIN:VEVENT
DTSTART;TZID=UTC:20230612T160000
DTEND;TZID=UTC:20230612T170000
DTSTAMP:20260420T140717
CREATED:20230615T202830Z
LAST-MODIFIED:20230615T202830Z
UID:2323-1686585600-1686589200@uhr-uho.org
SUMMARY:Park House Southfield Senior  Living
DESCRIPTION:
URL:https://uhr-uho.org/event/park-house-southfield-senior-living/
LOCATION:Detroit
END:VEVENT
END:VCALENDAR