BEGIN:VCALENDAR
VERSION:2.0
PRODID:-//Urban Health Resource (UHR) Urban Health Outreach (UHO) - ECPv6.15.15//NONSGML v1.0//EN
CALSCALE:GREGORIAN
METHOD:PUBLISH
X-WR-CALNAME:Urban Health Resource (UHR) Urban Health Outreach (UHO)
X-ORIGINAL-URL:https://uhr-uho.org
X-WR-CALDESC:Events for Urban Health Resource (UHR) Urban Health Outreach (UHO)
REFRESH-INTERVAL;VALUE=DURATION:PT1H
X-Robots-Tag:noindex
X-PUBLISHED-TTL:PT1H
BEGIN:VTIMEZONE
TZID:UTC
BEGIN:STANDARD
TZOFFSETFROM:+0000
TZOFFSETTO:+0000
TZNAME:UTC
DTSTART:20220101T000000
END:STANDARD
END:VTIMEZONE
BEGIN:VEVENT
DTSTART;TZID=UTC:20230614T080000
DTEND;TZID=UTC:20230614T170000
DTSTAMP:20260420T140718
CREATED:20230615T202025Z
LAST-MODIFIED:20230615T202025Z
UID:2319-1686729600-1686762000@uhr-uho.org
SUMMARY:100 Black Men National Convention
DESCRIPTION:June 14th 2023 through June 16th 2023
URL:https://uhr-uho.org/event/100-black-men-national-convention/
LOCATION:Detroit
END:VEVENT
END:VCALENDAR