BEGIN:VCALENDAR
VERSION:2.0
PRODID:-//Urban Health Resource (UHR) Urban Health Outreach (UHO) - ECPv6.15.15//NONSGML v1.0//EN
CALSCALE:GREGORIAN
METHOD:PUBLISH
X-WR-CALNAME:Urban Health Resource (UHR) Urban Health Outreach (UHO)
X-ORIGINAL-URL:https://uhr-uho.org
X-WR-CALDESC:Events for Urban Health Resource (UHR) Urban Health Outreach (UHO)
REFRESH-INTERVAL;VALUE=DURATION:PT1H
X-Robots-Tag:noindex
X-PUBLISHED-TTL:PT1H
BEGIN:VTIMEZONE
TZID:UTC
BEGIN:STANDARD
TZOFFSETFROM:+0000
TZOFFSETTO:+0000
TZNAME:UTC
DTSTART:20220101T000000
END:STANDARD
END:VTIMEZONE
BEGIN:VEVENT
DTSTART;TZID=UTC:20230617T080000
DTEND;TZID=UTC:20230617T170000
DTSTAMP:20260420T140603
CREATED:20230615T202416Z
LAST-MODIFIED:20230616T143711Z
UID:2321-1686988800-1687021200@uhr-uho.org
SUMMARY:Junteenth Event on the Avenue of Fashion: Mens Room
DESCRIPTION:Vendor Booth
URL:https://uhr-uho.org/event/junteenth-event-on-the-avenue-of-fashion-mens-group/
LOCATION:Detroit
END:VEVENT
BEGIN:VEVENT
DTSTART;TZID=UTC:20230617T120000
DTEND;TZID=UTC:20230617T170000
DTSTAMP:20260420T140603
CREATED:20230615T202946Z
LAST-MODIFIED:20230615T202946Z
UID:2325-1687003200-1687021200@uhr-uho.org
SUMMARY:Calvery Church/Junteenth Celebration
DESCRIPTION:
URL:https://uhr-uho.org/event/calvery-church-junteenth-celebration/
LOCATION:Detroit
END:VEVENT
END:VCALENDAR