BEGIN:VCALENDAR
VERSION:2.0
PRODID:-//Urban Health Resource (UHR) Urban Health Outreach (UHO) - ECPv6.15.15//NONSGML v1.0//EN
CALSCALE:GREGORIAN
METHOD:PUBLISH
X-WR-CALNAME:Urban Health Resource (UHR) Urban Health Outreach (UHO)
X-ORIGINAL-URL:https://uhr-uho.org
X-WR-CALDESC:Events for Urban Health Resource (UHR) Urban Health Outreach (UHO)
REFRESH-INTERVAL;VALUE=DURATION:PT1H
X-Robots-Tag:noindex
X-PUBLISHED-TTL:PT1H
BEGIN:VTIMEZONE
TZID:UTC
BEGIN:STANDARD
TZOFFSETFROM:+0000
TZOFFSETTO:+0000
TZNAME:UTC
DTSTART:20220101T000000
END:STANDARD
END:VTIMEZONE
BEGIN:VEVENT
DTSTART;TZID=UTC:20230726T120000
DTEND;TZID=UTC:20230726T160000
DTSTAMP:20260420T124831
CREATED:20230721T171842Z
LAST-MODIFIED:20230721T171842Z
UID:2415-1690372800-1690387200@uhr-uho.org
SUMMARY:Back-to-School Community Resource Fair! - Join Us At This Event!
DESCRIPTION:Faith Redemption Center Church \n15727 Plymouth Road\, Detroit\, Michigan 48227
URL:https://uhr-uho.org/event/back-to-school-community-resource-fair-join-us-at-this-event/
LOCATION:Detroit
END:VEVENT
END:VCALENDAR