BEGIN:VCALENDAR
VERSION:2.0
PRODID:-//Urban Health Resource (UHR) Urban Health Outreach (UHO) - ECPv6.15.15//NONSGML v1.0//EN
CALSCALE:GREGORIAN
METHOD:PUBLISH
X-WR-CALNAME:Urban Health Resource (UHR) Urban Health Outreach (UHO)
X-ORIGINAL-URL:https://uhr-uho.org
X-WR-CALDESC:Events for Urban Health Resource (UHR) Urban Health Outreach (UHO)
REFRESH-INTERVAL;VALUE=DURATION:PT1H
X-Robots-Tag:noindex
X-PUBLISHED-TTL:PT1H
BEGIN:VTIMEZONE
TZID:UTC
BEGIN:STANDARD
TZOFFSETFROM:+0000
TZOFFSETTO:+0000
TZNAME:UTC
DTSTART:20220101T000000
END:STANDARD
END:VTIMEZONE
BEGIN:VEVENT
DTSTART;TZID=UTC:20230805T103000
DTEND;TZID=UTC:20230805T140000
DTSTAMP:20260420T112237
CREATED:20230628T183204Z
LAST-MODIFIED:20230721T171331Z
UID:2348-1691231400-1691244000@uhr-uho.org
SUMMARY:Community Fun Day - Man Up! -Join Us At This Event!
DESCRIPTION:Join Us for A Run/Walk Through Beautiful Mid-Town Detroit – Led by BLACK MEN RUN DETROIT
URL:https://uhr-uho.org/event/community-fun-day-man-up/
LOCATION:Detroit
END:VEVENT
BEGIN:VEVENT
DTSTART;TZID=UTC:20230805T120000
DTEND;TZID=UTC:20230805T200000
DTSTAMP:20260420T112237
CREATED:20230721T114943Z
LAST-MODIFIED:20230721T165430Z
UID:2406-1691236800-1691265600@uhr-uho.org
SUMMARY:JAZZ On The AVE - Presented by first Independence Bank
DESCRIPTION:Michael Brock’s Quartet performing Live \nMotor City BrewingWorks – 2pm – 4pm – 6pm \nMobile Entertainment Lounge \nMobile Cigar Bar \nMike’s Market: Family Fun \nBaker’s Keyboard and More!
URL:https://uhr-uho.org/event/jazz-on-the-ave-presented-by-first-independence-bank/
LOCATION:Detroit
END:VEVENT
END:VCALENDAR