BEGIN:VCALENDAR
VERSION:2.0
PRODID:-//Urban Health Resource (UHR) Urban Health Outreach (UHO) - ECPv6.15.15//NONSGML v1.0//EN
CALSCALE:GREGORIAN
METHOD:PUBLISH
X-ORIGINAL-URL:https://uhr-uho.org
X-WR-CALDESC:Events for Urban Health Resource (UHR) Urban Health Outreach (UHO)
REFRESH-INTERVAL;VALUE=DURATION:PT1H
X-Robots-Tag:noindex
X-PUBLISHED-TTL:PT1H
BEGIN:VTIMEZONE
TZID:UTC
BEGIN:STANDARD
TZOFFSETFROM:+0000
TZOFFSETTO:+0000
TZNAME:UTC
DTSTART:20220101T000000
END:STANDARD
END:VTIMEZONE
BEGIN:VEVENT
DTSTART;TZID=UTC:20230909T100000
DTEND;TZID=UTC:20230910T200000
DTSTAMP:20260420T101748
CREATED:20230826T004717Z
LAST-MODIFIED:20230829T090334Z
UID:2480-1694253600-1694376000@uhr-uho.org
SUMMARY:2023 Autumn Club Senior Activity Festival
DESCRIPTION:Etheldra Mae Williams Park\n14300 Burgess Street  – corner of Acacia\nFree Seminars – Estate Planning\, Financial Responsibility\, Last Will & Testament preparation\, how to prevent Elder Abuse & Scams Targeting Senior Citizens\, Home Adaption\, and Accessibility. \n Free Activities – to include Yoga\, Hustle Lessons\, Senior Self Defense Classes\, Pickle Ball\, Chair Aerobics and adaptive exercises\, Crochet Class\, lessons on navigating Social Media and Smart Phone Technology\, Painting\, Puzzles\, Corn Hole\, Arts and Crafts\, Health Screenings\, Merchandise and Food Vendors plus so much more. \nFree Live Entertainment – Blues by Luther “Bad Man ” Keith & Poetry in the Park & Fit 4 Life with Carol Gist\, HulaFitNation\, 40+ Double Dutch Club \n  \n 
URL:https://uhr-uho.org/event/senior-activity-festival/
LOCATION:Detroit
END:VEVENT
END:VCALENDAR