BEGIN:VCALENDAR
VERSION:2.0
PRODID:-//Urban Health Resource (UHR) Urban Health Outreach (UHO) - ECPv6.15.15//NONSGML v1.0//EN
CALSCALE:GREGORIAN
METHOD:PUBLISH
X-WR-CALNAME:Urban Health Resource (UHR) Urban Health Outreach (UHO)
X-ORIGINAL-URL:https://uhr-uho.org
X-WR-CALDESC:Events for Urban Health Resource (UHR) Urban Health Outreach (UHO)
REFRESH-INTERVAL;VALUE=DURATION:PT1H
X-Robots-Tag:noindex
X-PUBLISHED-TTL:PT1H
BEGIN:VTIMEZONE
TZID:UTC
BEGIN:STANDARD
TZOFFSETFROM:+0000
TZOFFSETTO:+0000
TZNAME:UTC
DTSTART:20220101T000000
END:STANDARD
END:VTIMEZONE
BEGIN:VEVENT
DTSTART;TZID=UTC:20231009T180000
DTEND;TZID=UTC:20231009T210000
DTSTAMP:20260420T082335
CREATED:20230901T205200Z
LAST-MODIFIED:20230901T212243Z
UID:2488-1696874400-1696885200@uhr-uho.org
SUMMARY:Christian Cuts Connection
DESCRIPTION:Health & Wellness l Network Event! \n \nGuest Speakers \nPastor Ken Nethers (Crossover Church) \nAnthony Robinson (Urban Health Resources) \nKeenan Smith (Morning Anchor WXYZ) \nGrover Tigue (Brain Cancer Survivor) \nLocation: 23800 W. 10 Mile Southfield MI 48075 \n  \n 
URL:https://uhr-uho.org/event/christan-cuts-connection/
LOCATION:Detroit
END:VEVENT
END:VCALENDAR