BEGIN:VCALENDAR
VERSION:2.0
PRODID:-//Urban Health Resource (UHR) Urban Health Outreach (UHO) - ECPv6.15.15//NONSGML v1.0//EN
CALSCALE:GREGORIAN
METHOD:PUBLISH
X-ORIGINAL-URL:https://uhr-uho.org
X-WR-CALDESC:Events for Urban Health Resource (UHR) Urban Health Outreach (UHO)
REFRESH-INTERVAL;VALUE=DURATION:PT1H
X-Robots-Tag:noindex
X-PUBLISHED-TTL:PT1H
BEGIN:VTIMEZONE
TZID:UTC
BEGIN:STANDARD
TZOFFSETFROM:+0000
TZOFFSETTO:+0000
TZNAME:UTC
DTSTART:20220101T000000
END:STANDARD
END:VTIMEZONE
BEGIN:VEVENT
DTSTART;TZID=UTC:20230722T080000
DTEND;TZID=UTC:20230722T180000
DTSTAMP:20260420T112405
CREATED:20230714T145457Z
LAST-MODIFIED:20230714T145457Z
UID:2394-1690012800-1690048800@uhr-uho.org
SUMMARY:Community Health Fair
DESCRIPTION:Brown Chapel Missionary Baptist Church   —  12920 E. Warren  —  Detroit\, Michigan
URL:https://uhr-uho.org/event/community-health-fair/
LOCATION:Detroit
END:VEVENT
BEGIN:VEVENT
DTSTART;TZID=UTC:20230726T120000
DTEND;TZID=UTC:20230726T160000
DTSTAMP:20260420T112405
CREATED:20230721T171842Z
LAST-MODIFIED:20230721T171842Z
UID:2415-1690372800-1690387200@uhr-uho.org
SUMMARY:Back-to-School Community Resource Fair! - Join Us At This Event!
DESCRIPTION:Faith Redemption Center Church \n15727 Plymouth Road\, Detroit\, Michigan 48227
URL:https://uhr-uho.org/event/back-to-school-community-resource-fair-join-us-at-this-event/
LOCATION:Detroit
END:VEVENT
BEGIN:VEVENT
DTSTART;TZID=UTC:20230730T080000
DTEND;TZID=UTC:20230730T180000
DTSTAMP:20260420T112405
CREATED:20230714T145611Z
LAST-MODIFIED:20230714T145611Z
UID:2396-1690704000-1690740000@uhr-uho.org
SUMMARY:Rhonda Walker "Give & Get Fit Health & Fitness Event
DESCRIPTION:Detroit\, Michigan
URL:https://uhr-uho.org/event/rhonda-walker-give-get-fit-health-fitness-event/
LOCATION:Detroit
END:VEVENT
END:VCALENDAR