BEGIN:VCALENDAR
VERSION:2.0
PRODID:-//Urban Health Resource (UHR) Urban Health Outreach (UHO) - ECPv6.15.15//NONSGML v1.0//EN
CALSCALE:GREGORIAN
METHOD:PUBLISH
X-WR-CALNAME:Urban Health Resource (UHR) Urban Health Outreach (UHO)
X-ORIGINAL-URL:https://uhr-uho.org
X-WR-CALDESC:Events for Urban Health Resource (UHR) Urban Health Outreach (UHO)
REFRESH-INTERVAL;VALUE=DURATION:PT1H
X-Robots-Tag:noindex
X-PUBLISHED-TTL:PT1H
BEGIN:VTIMEZONE
TZID:UTC
BEGIN:STANDARD
TZOFFSETFROM:+0000
TZOFFSETTO:+0000
TZNAME:UTC
DTSTART:20220101T000000
END:STANDARD
END:VTIMEZONE
BEGIN:VEVENT
DTSTART;TZID=UTC:20230906T110000
DTEND;TZID=UTC:20230906T150000
DTSTAMP:20260420T082334
CREATED:20230824T202945Z
LAST-MODIFIED:20230824T204035Z
UID:2466-1693998000-1694012400@uhr-uho.org
SUMMARY:Celebrate with CYL²
DESCRIPTION:Join the celebration at: bit.ly/CYL2PARTY
URL:https://uhr-uho.org/event/celebrate-cyl%c2%b2/
LOCATION:Detroit
END:VEVENT
BEGIN:VEVENT
DTSTART;TZID=UTC:20230909T080000
DTEND;TZID=UTC:20230909T180000
DTSTAMP:20260420T082334
CREATED:20230714T145732Z
LAST-MODIFIED:20230721T171421Z
UID:2398-1694246400-1694282400@uhr-uho.org
SUMMARY:Detroit Medical Society Community Health & Wellness Fair - Join Us At This Event!
DESCRIPTION:8200 W. Outer Drive — Detroit\, Michigan
URL:https://uhr-uho.org/event/detroit-medical-society-community-health-wellness-fair/
LOCATION:Detroit
END:VEVENT
BEGIN:VEVENT
DTSTART;TZID=UTC:20230909T100000
DTEND;TZID=UTC:20230910T200000
DTSTAMP:20260420T082334
CREATED:20230826T004717Z
LAST-MODIFIED:20230829T090334Z
UID:2480-1694253600-1694376000@uhr-uho.org
SUMMARY:2023 Autumn Club Senior Activity Festival
DESCRIPTION:Etheldra Mae Williams Park\n14300 Burgess Street  – corner of Acacia\nFree Seminars – Estate Planning\, Financial Responsibility\, Last Will & Testament preparation\, how to prevent Elder Abuse & Scams Targeting Senior Citizens\, Home Adaption\, and Accessibility. \n Free Activities – to include Yoga\, Hustle Lessons\, Senior Self Defense Classes\, Pickle Ball\, Chair Aerobics and adaptive exercises\, Crochet Class\, lessons on navigating Social Media and Smart Phone Technology\, Painting\, Puzzles\, Corn Hole\, Arts and Crafts\, Health Screenings\, Merchandise and Food Vendors plus so much more. \nFree Live Entertainment – Blues by Luther “Bad Man ” Keith & Poetry in the Park & Fit 4 Life with Carol Gist\, HulaFitNation\, 40+ Double Dutch Club \n  \n 
URL:https://uhr-uho.org/event/senior-activity-festival/
LOCATION:Detroit
END:VEVENT
BEGIN:VEVENT
DTSTART;TZID=UTC:20230909T110000
DTEND;TZID=UTC:20230909T140000
DTSTAMP:20260420T082334
CREATED:20230817T215031Z
LAST-MODIFIED:20230817T215104Z
UID:2450-1694257200-1694268000@uhr-uho.org
SUMMARY:Free Community Health & Wellness Fair - Detroit Medical Society
DESCRIPTION:Location: Wayne County Community College\, Denise Wellcons Glover Welcome Center – 8200 W Outer Drive\, Detroit\, Michigan 48219 \n\nFree Health Screenings\nLive Cooking Demonstrations\nLearn about Resources Within Our Community\nEstate Planning\, Dental Care\, Women Health and SO MUCH MORE!\n\n  \n 
URL:https://uhr-uho.org/event/free-community-health-wellness-fair-detroit-medical-society/
LOCATION:Detroit
END:VEVENT
BEGIN:VEVENT
DTSTART;TZID=UTC:20230909T110000
DTEND;TZID=UTC:20230909T140000
DTSTAMP:20260420T082334
CREATED:20230829T090553Z
LAST-MODIFIED:20230829T090619Z
UID:2485-1694257200-1694268000@uhr-uho.org
SUMMARY:WCCCD Welcome Center
DESCRIPTION:DETROIT MEDICAL SOCIETY
URL:https://uhr-uho.org/event/wcccd-welcome-center/
LOCATION:Detroit
END:VEVENT
BEGIN:VEVENT
DTSTART;TZID=UTC:20230911T170000
DTEND;TZID=UTC:20230911T200000
DTSTAMP:20260420T082334
CREATED:20230705T214627Z
LAST-MODIFIED:20230706T150532Z
UID:2360-1694451600-1694462400@uhr-uho.org
SUMMARY:Change your Lifestyle Today for a Healthier Tomorrow!
DESCRIPTION:Calvary Presbyterian Church \n19125 Greenview\, Detroit\, Michigan 48219
URL:https://uhr-uho.org/event/change-your-lifestyle-change-your-life/
LOCATION:Venue TBD\, TBD\, Detroit\, MI\, United States
END:VEVENT
END:VCALENDAR